BEGIN:VCALENDAR
VERSION:2.0
PRODID:-//Strawberry Vale Elementary - ECPv6.2.8.1//NONSGML v1.0//EN
CALSCALE:GREGORIAN
METHOD:PUBLISH
X-WR-CALNAME:Strawberry Vale Elementary
X-ORIGINAL-URL:https://strawberryvale.sd61.bc.ca
X-WR-CALDESC:Events for Strawberry Vale Elementary
REFRESH-INTERVAL;VALUE=DURATION:PT1H
X-Robots-Tag:noindex
X-PUBLISHED-TTL:PT1H
BEGIN:VTIMEZONE
TZID:America/Vancouver
BEGIN:DAYLIGHT
TZOFFSETFROM:-0800
TZOFFSETTO:-0700
TZNAME:PDT
DTSTART:20260308T100000
END:DAYLIGHT
BEGIN:STANDARD
TZOFFSETFROM:-0700
TZOFFSETTO:-0800
TZNAME:PST
DTSTART:20261101T090000
END:STANDARD
END:VTIMEZONE
BEGIN:VEVENT
DTSTART;TZID=America/Vancouver:20260114T183000
DTEND;TZID=America/Vancouver:20260114T200000
DTSTAMP:20260425T051629
CREATED:20250828T192607Z
LAST-MODIFIED:20250828T192607Z
UID:6950-1768415400-1768420800@strawberryvale.sd61.bc.ca
SUMMARY:PAC Meeting
DESCRIPTION:PAC meeting at 6:30 pm in the Music Room.   Everyone welcome.
URL:https://strawberryvale.sd61.bc.ca/calendar-event/pac-meeting-10/
END:VEVENT
END:VCALENDAR