BEGIN:VCALENDAR
VERSION:2.0
PRODID:-//Strawberry Vale Elementary - ECPv6.2.8.1//NONSGML v1.0//EN
CALSCALE:GREGORIAN
METHOD:PUBLISH
X-WR-CALNAME:Strawberry Vale Elementary
X-ORIGINAL-URL:https://strawberryvale.sd61.bc.ca
X-WR-CALDESC:Events for Strawberry Vale Elementary
REFRESH-INTERVAL;VALUE=DURATION:PT1H
X-Robots-Tag:noindex
X-PUBLISHED-TTL:PT1H
BEGIN:VTIMEZONE
TZID:America/Vancouver
BEGIN:DAYLIGHT
TZOFFSETFROM:-0800
TZOFFSETTO:-0700
TZNAME:PDT
DTSTART:20250309T100000
END:DAYLIGHT
BEGIN:STANDARD
TZOFFSETFROM:-0700
TZOFFSETTO:-0800
TZNAME:PST
DTSTART:20251102T090000
END:STANDARD
END:VTIMEZONE
BEGIN:VEVENT
DTSTART;TZID=America/Vancouver:20250530T120000
DTEND;TZID=America/Vancouver:20250530T123000
DTSTAMP:20260422T093849
CREATED:20250505T162853Z
LAST-MODIFIED:20250505T162853Z
UID:6892-1748606400-1748608200@strawberryvale.sd61.bc.ca
SUMMARY:PAC Fun Lunch
DESCRIPTION:Our next fun lunch\, for those who wish to participate\, is happening on Friday\, May 30th.  We will be having pizza from Pizzaz Pizza.  Pizza is sold by the slice.  Pizzaz Pizza is going to cut each large pizza into slices of 6 instead of 8 so its going to be a very good size slice of pizza.  Students can choose from Cheese\, Pepperoni\, Hawaiian\, or Veggie.  As well\, a gluten free crust is available for any of the options.  Additional details are below: \n\nOrders can only be placed online sd61.schoolcashonline.com\nOnline ordering will go live on Monday\, May 12th and will close at the end of the day on Thursday\, May 22nd.\nNo late orders or changes can be made.\nPlease order for each child separately.
URL:https://strawberryvale.sd61.bc.ca/calendar-event/pac-fun-lunch-7/
END:VEVENT
END:VCALENDAR