BEGIN:VCALENDAR
VERSION:2.0
PRODID:-//Strawberry Vale Elementary - ECPv6.2.8.1//NONSGML v1.0//EN
CALSCALE:GREGORIAN
METHOD:PUBLISH
X-ORIGINAL-URL:https://strawberryvale.sd61.bc.ca
X-WR-CALDESC:Events for Strawberry Vale Elementary
REFRESH-INTERVAL;VALUE=DURATION:PT1H
X-Robots-Tag:noindex
X-PUBLISHED-TTL:PT1H
BEGIN:VTIMEZONE
TZID:America/Vancouver
BEGIN:DAYLIGHT
TZOFFSETFROM:-0800
TZOFFSETTO:-0700
TZNAME:PDT
DTSTART:20250309T100000
END:DAYLIGHT
BEGIN:STANDARD
TZOFFSETFROM:-0700
TZOFFSETTO:-0800
TZNAME:PST
DTSTART:20251102T090000
END:STANDARD
END:VTIMEZONE
BEGIN:VEVENT
DTSTART;TZID=America/Vancouver:20250425T130000
DTEND;TZID=America/Vancouver:20250425T140000
DTSTAMP:20260421T191538
CREATED:20250303T163954Z
LAST-MODIFIED:20250407T155049Z
UID:6861-1745586000-1745589600@strawberryvale.sd61.bc.ca
SUMMARY:PAC Walk-a-thon Fundraiser
DESCRIPTION:April 25\, 2025    1:00 – 2:00 pm \nThe Strawberry Vale Walk-a-thon Fundraiser is back! This year’s fundraising efforts will go directly to helping the Strawberry Vale PAC fund the initiatives\, performances and programs that enrich the experiences of all students at Strawberry Vale. \nWhat is a Walk-a-thon? \nThe SVE Walk-a-thon is a fundraising event for the whole family. Students raise money by collecting donations or pledges for walking a set course around the school for an hour on the afternoon of Friday\, April 25. Students will be bringing home pledge sheets and information today. Parents are asked to help their child approach family members\, friends and neighbours to support the school with a donation. Donations can be cash or cheque and can also be made online. Families can share the information and link provided below.. Families are welcome and encouraged to join us on Walk-a-thon day to walk the course\, help marshall and supervise the students and cheer the students and staff on. If you would like to volunteer to help out on Walk-a-thon day\, please contact the PAC pacsve@gmail.com \nHow does the Strawberry Vale Walk-a-thon help our students? \nThe funds raised from the Walk-a-thon are used exclusively in the school by the PAC to enrich the experiences of all students. Every year the PAC funds initiatives like classroom and field trip funding\, the seaquarium program\, Grade 5 celebration and fun day\, in-class presenters\, musical and theatrical performances and parent education nights. This past year the PAC paid for and installed new bike racks\, benches and a new dock at our pond.
URL:https://strawberryvale.sd61.bc.ca/calendar-event/pac-walk-a-thon-fundraiser-3/
END:VEVENT
END:VCALENDAR