BEGIN:VCALENDAR
VERSION:2.0
PRODID:-//Strawberry Vale Elementary - ECPv6.2.8.1//NONSGML v1.0//EN
CALSCALE:GREGORIAN
METHOD:PUBLISH
X-ORIGINAL-URL:https://strawberryvale.sd61.bc.ca
X-WR-CALDESC:Events for Strawberry Vale Elementary
REFRESH-INTERVAL;VALUE=DURATION:PT1H
X-Robots-Tag:noindex
X-PUBLISHED-TTL:PT1H
BEGIN:VTIMEZONE
TZID:America/Vancouver
BEGIN:DAYLIGHT
TZOFFSETFROM:-0800
TZOFFSETTO:-0700
TZNAME:PDT
DTSTART:20250309T100000
END:DAYLIGHT
BEGIN:STANDARD
TZOFFSETFROM:-0700
TZOFFSETTO:-0800
TZNAME:PST
DTSTART:20251102T090000
END:STANDARD
END:VTIMEZONE
BEGIN:VEVENT
DTSTART;TZID=America/Vancouver:20250414T183000
DTEND;TZID=America/Vancouver:20250414T200000
DTSTAMP:20260422T230458
CREATED:20230403T172135Z
LAST-MODIFIED:20250415T152609Z
UID:6398-1744655400-1744660800@strawberryvale.sd61.bc.ca
SUMMARY:Parent Education Night with Allison Rees
DESCRIPTION:The Strawberry Vale PAC will be hosting a parent education opportunity TONIGHT – Monday\, April 14th at 6:30 p.m.\, in the Music Room.  The presentation will be given by Dr. Allison Rees of LIFE Seminars and is called Unlock the Power of Communication:  Strengthen Your Family Bonds.  The presentation is also offered online via this link:  https://zoom.us/j/95076419327?pwd=3R6W4gcr1cpzEmQBkM9xhR9UPTXJJS.1.  This presentation is open to anyone who would like to learn how to encourage your child(ren) to listen\, navigate tough conversations and make meaningful family decisions together. \nPlease refer to the attached flyer for more details. Unlock the Power of Communication Poster.pdf
URL:https://strawberryvale.sd61.bc.ca/calendar-event/parent-education-night-with-allison-rees/
END:VEVENT
END:VCALENDAR