BEGIN:VCALENDAR
VERSION:2.0
PRODID:-//Strawberry Vale Elementary - ECPv6.2.8.1//NONSGML v1.0//EN
CALSCALE:GREGORIAN
METHOD:PUBLISH
X-ORIGINAL-URL:https://strawberryvale.sd61.bc.ca
X-WR-CALDESC:Events for Strawberry Vale Elementary
REFRESH-INTERVAL;VALUE=DURATION:PT1H
X-Robots-Tag:noindex
X-PUBLISHED-TTL:PT1H
BEGIN:VTIMEZONE
TZID:America/Vancouver
BEGIN:DAYLIGHT
TZOFFSETFROM:-0800
TZOFFSETTO:-0700
TZNAME:PDT
DTSTART:20250309T100000
END:DAYLIGHT
BEGIN:STANDARD
TZOFFSETFROM:-0700
TZOFFSETTO:-0800
TZNAME:PST
DTSTART:20251102T090000
END:STANDARD
END:VTIMEZONE
BEGIN:VEVENT
DTSTART;VALUE=DATE:20250127
DTEND;VALUE=DATE:20250201
DTSTAMP:20260421T191504
CREATED:20241216T170025Z
LAST-MODIFIED:20241216T170025Z
UID:6821-1737936000-1738367999@strawberryvale.sd61.bc.ca
SUMMARY:Kindergarten Registration Week
DESCRIPTION:Kindergarten Registration begins for the 2025/2026 school year.   Details TBA.
URL:https://strawberryvale.sd61.bc.ca/calendar-event/kindergarten-registration-week/
END:VEVENT
END:VCALENDAR