BEGIN:VCALENDAR
VERSION:2.0
PRODID:-//Strawberry Vale Elementary - ECPv6.2.8.1//NONSGML v1.0//EN
CALSCALE:GREGORIAN
METHOD:PUBLISH
X-ORIGINAL-URL:https://strawberryvale.sd61.bc.ca
X-WR-CALDESC:Events for Strawberry Vale Elementary
REFRESH-INTERVAL;VALUE=DURATION:PT1H
X-Robots-Tag:noindex
X-PUBLISHED-TTL:PT1H
BEGIN:VTIMEZONE
TZID:America/Vancouver
BEGIN:DAYLIGHT
TZOFFSETFROM:-0800
TZOFFSETTO:-0700
TZNAME:PDT
DTSTART:20240310T100000
END:DAYLIGHT
BEGIN:STANDARD
TZOFFSETFROM:-0700
TZOFFSETTO:-0800
TZNAME:PST
DTSTART:20241103T090000
END:STANDARD
END:VTIMEZONE
BEGIN:VEVENT
DTSTART;VALUE=DATE:20240223
DTEND;VALUE=DATE:20240224
DTSTAMP:20260425T154032
CREATED:20240129T165007Z
LAST-MODIFIED:20240201T185522Z
UID:6630-1708646400-1708732799@strawberryvale.sd61.bc.ca
SUMMARY:PAC Fun Lunch
DESCRIPTION:PAC Fun Lunch Order Information \nOur next fun lunch\, for those who wish to participate\, is happening on Friday\, February 23rd.  We will be having Subway!  The lunch will include a 6″ sandwich.  An apple or orange juice box and a chocolate chunk cookie can also be purchased.  Options for the sandwich including type of bread (gluten free option available)\, type of protein\, veggies\, and condiments will appear as check boxes on the cash online system.  Additional details are below: \n\nOrders can only be placed online sd61.schoolcashonline.com\nOnline ordering will be live on Monday\, February 5th and will close at the end of the day on Wednesday\, February 14th.\nNo late orders or changes can be made.\nPlease order for each child separately.
URL:https://strawberryvale.sd61.bc.ca/calendar-event/pac-fun-lunch-2/
END:VEVENT
END:VCALENDAR