BEGIN:VCALENDAR
VERSION:2.0
PRODID:-//Strawberry Vale Elementary - ECPv6.2.8.1//NONSGML v1.0//EN
CALSCALE:GREGORIAN
METHOD:PUBLISH
X-ORIGINAL-URL:https://strawberryvale.sd61.bc.ca
X-WR-CALDESC:Events for Strawberry Vale Elementary
REFRESH-INTERVAL;VALUE=DURATION:PT1H
X-Robots-Tag:noindex
X-PUBLISHED-TTL:PT1H
BEGIN:VTIMEZONE
TZID:America/Vancouver
BEGIN:DAYLIGHT
TZOFFSETFROM:-0800
TZOFFSETTO:-0700
TZNAME:PDT
DTSTART:20230312T100000
END:DAYLIGHT
BEGIN:STANDARD
TZOFFSETFROM:-0700
TZOFFSETTO:-0800
TZNAME:PST
DTSTART:20231105T090000
END:STANDARD
END:VTIMEZONE
BEGIN:VEVENT
DTSTART;VALUE=DATE:20231215
DTEND;VALUE=DATE:20231216
DTSTAMP:20260423T114809
CREATED:20231204T181421Z
LAST-MODIFIED:20231204T181446Z
UID:6605-1702598400-1702684799@strawberryvale.sd61.bc.ca
SUMMARY:PAC Fun Lunch
DESCRIPTION:PAC Fun Lunch Order Information \nOur next fun lunch for those who wish to participate is happening on Friday\, December 15th.  We will be having pizza from Ali Baba.  Pizza is sold by the slice.  Ali Baba is going to cut each large pizza into slices of 6 instead of 8 so it’s going to be a very good size slice of pizza.  Students can choose from Cheese\, Pepperoni\, or Hawaiian.  As well\, a gluten free crust is available for Cheese or Pepperoni.  Additional details are below: \n\nOrders can only be placed online sd61.schoolcashonline.com\nOnline ordering will open on Monday\, November 27th and close on Thursday\, Thursday\, December 7th.\nNo late orders or changes can be made.\nPlease order for each child separately.
URL:https://strawberryvale.sd61.bc.ca/calendar-event/pac-fun-lunch/
END:VEVENT
END:VCALENDAR